BEGIN:VCALENDAR
VERSION:2.0
PRODID:-//nwr-scca - ECPv6.15.20//NONSGML v1.0//EN
CALSCALE:GREGORIAN
METHOD:PUBLISH
X-WR-CALNAME:nwr-scca
X-ORIGINAL-URL:https://nwr-scca.org
X-WR-CALDESC:Events for nwr-scca
REFRESH-INTERVAL;VALUE=DURATION:PT1H
X-Robots-Tag:noindex
X-PUBLISHED-TTL:PT1H
BEGIN:VTIMEZONE
TZID:America/Los_Angeles
BEGIN:DAYLIGHT
TZOFFSETFROM:-0800
TZOFFSETTO:-0700
TZNAME:PDT
DTSTART:20250309T100000
END:DAYLIGHT
BEGIN:STANDARD
TZOFFSETFROM:-0700
TZOFFSETTO:-0800
TZNAME:PST
DTSTART:20251102T090000
END:STANDARD
BEGIN:DAYLIGHT
TZOFFSETFROM:-0800
TZOFFSETTO:-0700
TZNAME:PDT
DTSTART:20260308T100000
END:DAYLIGHT
BEGIN:STANDARD
TZOFFSETFROM:-0700
TZOFFSETTO:-0800
TZNAME:PST
DTSTART:20261101T090000
END:STANDARD
BEGIN:DAYLIGHT
TZOFFSETFROM:-0800
TZOFFSETTO:-0700
TZNAME:PDT
DTSTART:20270314T100000
END:DAYLIGHT
BEGIN:STANDARD
TZOFFSETFROM:-0700
TZOFFSETTO:-0800
TZNAME:PST
DTSTART:20271107T090000
END:STANDARD
END:VTIMEZONE
BEGIN:VEVENT
DTSTART;TZID=America/Los_Angeles:20260512T190000
DTEND;TZID=America/Los_Angeles:20260512T210000
DTSTAMP:20260424T052412
CREATED:20250306T022015Z
LAST-MODIFIED:20260113T044709Z
UID:266505-1778612400-1778619600@nwr-scca.org
SUMMARY:NWR SCCA - May Solo Meeting
DESCRIPTION:Meeting location – In Person at The Shop or Zoom Online. Meeting will start at 7pm. Please join early so the meeting can call to order on time. \nPlease join us in person starting at 6pm for social hour followed by a 7pm meeting that will end with The Shop closing at 9pm\, food and no host bar will be open until 8pm. \nThe Shop Auto Club\n2233 6th Ave S\nSeattle\, WA 98134 \nJoin Zoom Meeting\nhttps://us02web.zoom.us/j/84343822485?pwd=eeAgbL2PJprRsmfEDnbVIZ86QTe0SB.1 \nMeeting ID: 843 4382 2485\nPasscode: 202177
URL:https://nwr-scca.org/event/nwr-scca-may-solo-meeting/
LOCATION:The Shop Auto Club\, 2233 6th Ave S\, Seattle\, WA\, 98134\, United States
CATEGORIES:Solo Meeting
ATTACH;FMTTYPE=image/png:https://nwr-scca.org/wp-content/uploads/2025/11/NWR_SCCA_logoZoom-reduced-size-e1762476521146.png
END:VEVENT
BEGIN:VEVENT
DTSTART;TZID=America/Los_Angeles:20260516T080000
DTEND;TZID=America/Los_Angeles:20260516T170000
DTSTAMP:20260424T052412
CREATED:20260312T000342Z
LAST-MODIFIED:20260416T174023Z
UID:286513-1778918400-1778950800@nwr-scca.org
SUMMARY:NWR SCCA - Intermediate School
DESCRIPTION:Come join us for an Intermediate Driving School! \nThis school is intended for drivers that have been autocrossing a minimum of 3 years preferably 5 years and are looking for more advanced help. If you’ve been at this sport for awhile and are looking to make further steps forward\, this school is for you.  \nThe school will be broken into two parts.\nThe first part will be a classroom session where we discuss course fundamentals\, performance driving\, tires/car setup\, and data acquisition. It is preferred that all students attend this in person\, this part will be in the evening Thursday May 14th at The Shop in Seattle. We plan to also offer virtually via Zoom\, but in person attendance provides more value.  \nThe second part will be held on Saturday\, May 16th at Bremerton Motorsports Park.  This will include various elements including slaloms\, figure 8s\, and a full course for the afternoon portion.  We are limiting the number of students to 20.  The purpose for the limit is to make sure that each student receives specialized instruction tailored to their needs.  You’ll also have two different instructors throughout the day to get different inputs and styles of instruction.  We’ll have some of the top drivers from Northwest Region and Oregon Region as instructors! \nLunch is TBD\, but will be provided.   \nThis will be a full day at BMP. \nAs with normal autocross\, you will be working when you’re not running/being instructed.   \nAt the completion of the event\, we’ll do some kind of social\, and all are welcome to join for that as well. \nRegistration on scorekeeper\nCost: $150
URL:https://nwr-scca.org/event/nwr-scca-intermediate-school/
LOCATION:Bremerton MotorSports Park\, 7500 SW Old Clifton Rd\, Port Orchard\, WA\, 98367\, United States
CATEGORIES:Autocross,Solo
ATTACH;FMTTYPE=image/jpeg:https://nwr-scca.org/wp-content/uploads/2026/03/Intermediate-School.jpg
END:VEVENT
BEGIN:VEVENT
DTSTART;VALUE=DATE:20260517
DTEND;VALUE=DATE:20260518
DTSTAMP:20260424T052412
CREATED:20250128T200644Z
LAST-MODIFIED:20260406T012813Z
UID:264486-1778976000-1779062399@nwr-scca.org
SUMMARY:NWR SCCA Autocross Event #3 & PM Test n' Tune
DESCRIPTION:Preregistration on scorekeeper will open 30 days before the event.\n\n  \nAM Event with PM Test n’ Tune\n\nParticipants will be in one of two run groups (first run group or second run group) during both the AM and PM session\, with each group getting a minimum of 4 runs. Just like with national level events and other clubs\, when one run group is running\, the other is working the course.\n\n  \nAM Competition Class Schedule7:00 – Site opens7:30 – 8:30 – Registration\, work assignment and tech inspection open8:30 – Guided course walk (meet at start line)8:45 – Course closed for walking9:00 – Driver’s meeting\n\n  \nPM Test n’ Tune Schedule12:00 – 12:30 – Registration\, work assignments and tech inspection open for NEW entrants1:00 – Driver’s Meeting\n\n  \nPricing\n$55 for first entry (AM or PM)\n$35 for second entry\n$20 weekend membership required for non-members\n$10 on-site registration fee if you do not preregister on scorekeeper\, however prepayment is optional.\n\n  \nWe now also accept cards as payment option on-site!
URL:https://nwr-scca.org/event/nwrsolo-event-3/
LOCATION:Bremerton MotorSports Park\, 7500 SW Old Clifton Rd\, Port Orchard\, WA\, 98367\, United States
CATEGORIES:Autocross,Solo
ATTACH;FMTTYPE=image/jpeg:https://nwr-scca.org/wp-content/uploads/2026/02/BMP-Miata-with-Scooter.jpg
END:VEVENT
BEGIN:VEVENT
DTSTART;VALUE=DATE:20260524
DTEND;VALUE=DATE:20260525
DTSTAMP:20260424T052412
CREATED:20250128T200936Z
LAST-MODIFIED:20260406T012838Z
UID:264489-1779580800-1779667199@nwr-scca.org
SUMMARY:NWR SCCA Autocross Event #4 & PM Test n' Tune
DESCRIPTION:Preregistration on scorekeeper will open 30 days before the event.\n\n  \nAM Event with PM Test n’ Tune\n\nParticipants will be in one of two run groups (first run group or second run group) during both the AM and PM session\, with each group getting a minimum of 4 runs. Just like with national level events and other clubs\, when one run group is running\, the other is working the course.\n\n  \nAM Competition Class Schedule7:00 – Site opens7:30 – 8:30 – Registration\, work assignment and tech inspection open8:30 – Guided course walk (meet at start line)8:45 – Course closed for walking9:00 – Driver’s meeting\n\n  \nPM Test n’ Tune Schedule12:00 – 12:30 – Registration\, work assignments and tech inspection open for NEW entrants1:00 – Driver’s Meeting\n\n  \nPricing\n$55 for first entry (AM or PM)\n$35 for second entry\n$20 weekend membership required for non-members\n$10 on-site registration fee if you do not preregister on scorekeeper\, however prepayment is optional.\n\n  \nWe now also accept cards as payment option on-site!
URL:https://nwr-scca.org/event/nwrsolo-event-4/
LOCATION:Bremerton MotorSports Park\, 7500 SW Old Clifton Rd\, Port Orchard\, WA\, 98367\, United States
CATEGORIES:Autocross,Solo
ATTACH;FMTTYPE=image/jpeg:https://nwr-scca.org/wp-content/uploads/2026/02/BMP-Blue-MR2.jpg
END:VEVENT
BEGIN:VEVENT
DTSTART;TZID=America/Los_Angeles:20260609T190000
DTEND;TZID=America/Los_Angeles:20260609T210000
DTSTAMP:20260424T052412
CREATED:20250306T025152Z
LAST-MODIFIED:20260113T065121Z
UID:266514-1781031600-1781038800@nwr-scca.org
SUMMARY:NWR SCCA - June Solo Meeting
DESCRIPTION:Meeting location – In Person at The Shop or Zoom Online. Meeting will start at 7pm. Please join early so the meeting can call to order on time. \nPlease join us in person starting at 6pm for social hour followed by a 7pm meeting that will end with The Shop closing at 9pm\, food and no host bar will be open until 8pm. \nThe Shop Auto Club\n2233 6th Ave S\nSeattle\, WA 98134 \nJoin Zoom Meeting\nhttps://us02web.zoom.us/j/84343822485?pwd=eeAgbL2PJprRsmfEDnbVIZ86QTe0SB.1 \nMeeting ID: 843 4382 2485\nPasscode: 202177
URL:https://nwr-scca.org/event/nwr-scca-june-solo-meeting/
LOCATION:The Shop Auto Club\, 2233 6th Ave S\, Seattle\, WA\, 98134\, United States
CATEGORIES:Solo Meeting
ATTACH;FMTTYPE=image/png:https://nwr-scca.org/wp-content/uploads/2025/11/NWR_SCCA_logoZoom-reduced-size-e1762476521146.png
END:VEVENT
BEGIN:VEVENT
DTSTART;VALUE=DATE:20260620
DTEND;VALUE=DATE:20260621
DTSTAMP:20260424T052412
CREATED:20250128T201520Z
LAST-MODIFIED:20260406T012954Z
UID:264495-1781913600-1781999999@nwr-scca.org
SUMMARY:NWR SCCA Autocross Event #5 & PM Test n' Tune
DESCRIPTION:Preregistration on scorekeeper will open 30 days before the event.\n\n  \nAM Event with PM Test n’ Tune\n\nParticipants will be in one of two run groups (first run group or second run group) during both the AM and PM session\, with each group getting a minimum of 4 runs. Just like with national level events and other clubs\, when one run group is running\, the other is working the course.\n\n  \nAM Competition Class Schedule7:00 – Site opens7:30 – 8:30 – Registration\, work assignment and tech inspection open8:30 – Guided course walk (meet at start line)8:45 – Course closed for walking9:00 – Driver’s meeting\n\n  \nPM Test n’ Tune Schedule12:00 – 12:30 – Registration\, work assignments and tech inspection open for NEW entrants1:00 – Driver’s Meeting\n\n  \nPricing\n$55 for first entry (AM or PM)\n$35 for second entry\n$20 weekend membership required for non-members\n$10 on-site registration fee if you do not preregister on scorekeeper\, however prepayment is optional.\n\n  \nWe now also accept cards as payment option on-site!
URL:https://nwr-scca.org/event/nwrsolo-event-5/
LOCATION:Packwood\, 12818 US Highway 12\, Randle\, WA\, 98377\, United States
CATEGORIES:Autocross,Solo
ATTACH;FMTTYPE=image/jpeg:https://nwr-scca.org/wp-content/uploads/2025/01/NWR_Grid_3.jpg
END:VEVENT
BEGIN:VEVENT
DTSTART;VALUE=DATE:20260621
DTEND;VALUE=DATE:20260622
DTSTAMP:20260424T052412
CREATED:20250128T201115Z
LAST-MODIFIED:20260406T013023Z
UID:264492-1782000000-1782086399@nwr-scca.org
SUMMARY:NWR SCCA Autocross Event #6 - AM ONLY
DESCRIPTION:Preregistration on scorekeeper will open 30 days before the event.\n\n  \nAM Event Only\n\nParticipants will be in one of two run groups (first run group or second run group)\, with each group getting a minimum of 4 runs. Just like with national level events and other clubs\, when one run group is running\, the other is working the course.\n\n  \nAM Competition Class Schedule7:00 – Site opens7:30 – 8:30 – Registration\, work assignment and tech inspection open8:30 – Guided course walk (meet at start line)8:45 – Course closed for walking9:00 – Driver’s meeting\n\n  \nPricing\n$55 for AM entry\n$20 weekend membership required for non-members\n$10 on-site registration fee if you do not preregister on scorekeeper\, however prepayment is optional.\n\n  \nWe now also accept cards as payment option on-site!
URL:https://nwr-scca.org/event/nwrsolo-event-6/
LOCATION:Packwood\, 12818 US Highway 12\, Randle\, WA\, 98377\, United States
CATEGORIES:Autocross,Solo
ATTACH;FMTTYPE=image/jpeg:https://nwr-scca.org/wp-content/uploads/2025/01/Packwood-SSM-Miata.jpg
END:VEVENT
BEGIN:VEVENT
DTSTART;VALUE=DATE:20260704
DTEND;VALUE=DATE:20260705
DTSTAMP:20260424T052412
CREATED:20250128T202000Z
LAST-MODIFIED:20260406T013050Z
UID:264499-1783123200-1783209599@nwr-scca.org
SUMMARY:NWR SCCA Autocross Event #7 & PM Test n' Tune
DESCRIPTION:Preregistration on scorekeeper will open 30 days before the event.\n\n  \nAM Event with PM Test n’ Tune\n\nParticipants will be in one of two run groups (first run group or second run group) during both the AM and PM session\, with each group getting a minimum of 4 runs. Just like with national level events and other clubs\, when one run group is running\, the other is working the course.\n\n  \nAM Competition Class Schedule7:00 – Site opens7:30 – 8:30 – Registration\, work assignment and tech inspection open8:30 – Guided course walk (meet at start line)8:45 – Course closed for walking9:00 – Driver’s meeting\n\n  \nPM Test n’ Tune Schedule12:00 – 12:30 – Registration\, work assignments and tech inspection open for NEW entrants1:00 – Driver’s Meeting\n\n  \nPricing\n$55 for first entry (AM or PM)\n$35 for second entry\n$20 weekend membership required for non-members\n$10 on-site registration fee if you do not preregister on scorekeeper\, however prepayment is optional.\n\n  \nWe now also accept cards as payment option on-site!
URL:https://nwr-scca.org/event/nwrsolo-event-7/
LOCATION:Packwood\, 12818 US Highway 12\, Randle\, WA\, 98377\, United States
CATEGORIES:Autocross,Solo
ATTACH;FMTTYPE=image/jpeg:https://nwr-scca.org/wp-content/uploads/2026/02/Packwood-Common-Car.jpg
END:VEVENT
BEGIN:VEVENT
DTSTART;VALUE=DATE:20260705
DTEND;VALUE=DATE:20260706
DTSTAMP:20260424T052412
CREATED:20250128T202454Z
LAST-MODIFIED:20260406T013136Z
UID:264502-1783209600-1783295999@nwr-scca.org
SUMMARY:NWR SCCA Autocross Event #8 - AM ONLY
DESCRIPTION:Preregistration on scorekeeper will open 30 days before the event.\n\n  \nAM Event Only\n\nParticipants will be in one of two run groups (first run group or second run group)\, with each group getting a minimum of 4 runs. Just like with national level events and other clubs\, when one run group is running\, the other is working the course.\n\n  \nAM Competition Class Schedule7:00 – Site opens7:30 – 8:30 – Registration\, work assignment and tech inspection open8:30 – Guided course walk (meet at start line)8:45 – Course closed for walking9:00 – Driver’s meeting\n\n  \nPricing\n$55 for AM entry\n$20 weekend membership required for non-members\n$10 on-site registration fee if you do not preregister on scorekeeper\, however prepayment is optional.\n\n  \nWe now also accept cards as payment option on-site!
URL:https://nwr-scca.org/event/nwrsolo-event-8/
LOCATION:Packwood\, 12818 US Highway 12\, Randle\, WA\, 98377\, United States
CATEGORIES:Autocross,Solo
ATTACH;FMTTYPE=image/jpeg:https://nwr-scca.org/wp-content/uploads/2025/01/Packwood-Civic-Si.jpg
END:VEVENT
BEGIN:VEVENT
DTSTART;TZID=America/Los_Angeles:20260714T190000
DTEND;TZID=America/Los_Angeles:20260714T210000
DTSTAMP:20260424T052412
CREATED:20250306T025618Z
LAST-MODIFIED:20260113T051144Z
UID:266517-1784055600-1784062800@nwr-scca.org
SUMMARY:NWR SCCA - July Solo Meeting
DESCRIPTION:Meeting location – In Person at The Shop or Zoom Online. Meeting will start at 7pm. Please join early so the meeting can call to order on time. \nPlease join us in person starting at 6pm for social hour followed by a 7pm meeting that will end with The Shop closing at 9pm\, food and no host bar will be open until 8pm. \nThe Shop Auto Club\n2233 6th Ave S\nSeattle\, WA 98134 \nJoin Zoom Meeting\nhttps://us02web.zoom.us/j/84343822485?pwd=eeAgbL2PJprRsmfEDnbVIZ86QTe0SB.1 \nMeeting ID: 843 4382 2485\nPasscode: 202177
URL:https://nwr-scca.org/event/nwr-scca-july-solo-meeting/
LOCATION:The Shop Auto Club\, 2233 6th Ave S\, Seattle\, WA\, 98134\, United States
CATEGORIES:Solo Meeting
ATTACH;FMTTYPE=image/png:https://nwr-scca.org/wp-content/uploads/2025/11/NWR_SCCA_logoZoom-reduced-size-e1762476521146.png
END:VEVENT
BEGIN:VEVENT
DTSTART;VALUE=DATE:20260717
DTEND;VALUE=DATE:20260720
DTSTAMP:20260424T052412
CREATED:20250131T021421Z
LAST-MODIFIED:20260113T054537Z
UID:264788-1784246400-1784505599@nwr-scca.org
SUMMARY:Tire Rack SCCA Packwood National Tour
DESCRIPTION:If you are looking to experience the best sites\, the best courses and the best competition – either in preparation for Solo Nationals or to see where you stand against the best – The Tire Rack® SCCA Solo® National Tour is for you. \nEach National Tour event is run in a similar format to the season-ending National Championships in Lincoln Nebraska. National Tour events prepare drivers for their National Championship and typically offer tougher competition than Regional autocross events. \nThese events average more than 275 drivers at each of the various locations across the country with most of the competitors coming from nearby states. These drivers come together to get a taste of the “Nationals” experience of competition and camaraderie. \nNational Tour competition takes place over two days with a different course each day\, just like Solo Nationals. Drivers get three runs on each course with their best time from each added together for the final class standings. Runs are timed to 1/1000th of a second and knocking a cone down means a penalty of 2 seconds added to that time. All classes at National Tours are the standard Solo classes that you’ll find at Solo Nationals and in the SCCA in the Solo Rulebook. \nTo learn more\, see the links and schedule below or explore the “National Tour” guide to the right (bottom on Mobile devices) and learn about rules\, special awards and contingency prizes available.
URL:https://nwr-scca.org/event/tire-rack-scca-packwood-national-tour/
LOCATION:Packwood\, 12818 US Highway 12\, Randle\, WA\, 98377\, United States
CATEGORIES:Autocross,Solo
ATTACH;FMTTYPE=image/jpeg:https://nwr-scca.org/wp-content/uploads/2025/01/National-Tour.jpg
END:VEVENT
BEGIN:VEVENT
DTSTART;VALUE=DATE:20260724
DTEND;VALUE=DATE:20260727
DTSTAMP:20260424T052412
CREATED:20250131T021851Z
LAST-MODIFIED:20260113T054429Z
UID:264792-1784851200-1785110399@nwr-scca.org
SUMMARY:Tire Rack SCCA Packwood ProSolo
DESCRIPTION:Tire Rack SCCA ProSolo® Series\n“America’s Premier Autocross Championship Series” \nThe Tire Rack SCCA® ProSolo® Series is an adrenaline-pumping autocross format where solo isn’t solo. Drivers still run a course by themselves\, but start off side-by-side drag racing style and attack mirror-image courses to see who gets back to their respective finish lines first. \nIn contrast to a standard 3-run autocross\, ProSolo class competition takes 1.5 days where each driver gets three sets of runs to put together the best run from each side. Class winners are determined from putting the best right and left side runs together. \nAfter class competition\, it’s time for single-elimination challenge rounds. The first is a bragging-rights Bonus Challenge drawn at random\, a Ladies Challenge for the top-performing ladies class drivers\, and the big one – the Super Challenge\, which pits the top 32 drivers from regular competition into a solo bracket madness where coming out on top is simple: string together 12 winning runs in a row while avoiding red-lighting\, hitting cones and glory-robbing mistakes. \nWhere other top-level SCCA Championships like the TireRack Solo Nationals® and The Runoffs® are single-event winner take all competitions\, in SCCA ProSolo competitors earn Challenge points throughout the season toward the Overall Ladies and Open ProSolo Championships. Class National Championships and the Overall ProSolo Championships are determined by combining regular-season points with points earned at the ProSolo Finale in Lincoln\, Nebraska. \nTo learn more\, see the schedule below or explore the ProSolo guide to the right (bottom on Mobile devices) and learn about rules\, special awards\, and contingency prizes available.
URL:https://nwr-scca.org/event/tire-rack-scca-packwood-prosolo/
LOCATION:Packwood\, 12818 US Highway 12\, Randle\, WA\, 98377\, United States
CATEGORIES:Autocross,Solo
ATTACH;FMTTYPE=image/jpeg:https://nwr-scca.org/wp-content/uploads/2025/01/National-ProSolo.jpg
END:VEVENT
BEGIN:VEVENT
DTSTART;VALUE=DATE:20260809
DTEND;VALUE=DATE:20260810
DTSTAMP:20260424T052412
CREATED:20250128T203117Z
LAST-MODIFIED:20260406T013159Z
UID:264508-1786233600-1786319999@nwr-scca.org
SUMMARY:NWR SCCA Autocross Event #9 - AM ONLY
DESCRIPTION:Preregistration on scorekeeper will open 30 days before the event.\n\n  \nAM Event Only\n\nParticipants will be in one of two run groups (first run group or second run group)\, with each group getting a minimum of 4 runs. Just like with national level events and other clubs\, when one run group is running\, the other is working the course.\n\n  \nAM Competition Class Schedule7:00 – Site opens7:30-8:30 – Registration\, work assignment and tech inspection open8:30 – Guided course walk (meet at start line)8:45 – Course closed for walking9:00 – Driver’s meeting\n\n  \nPricing\n$55 for AM entry\n$20 weekend membership required for non-members\n$10 on-site registration fee if you do not preregister on scorekeeper\, however prepayment is optional.\n\n  \nWe now also accept cards as payment option on-site!
URL:https://nwr-scca.org/event/nwrsolo-event-9/
LOCATION:Packwood\, 12818 US Highway 12\, Randle\, WA\, 98377\, United States
CATEGORIES:Autocross,Solo
ATTACH;FMTTYPE=image/jpeg:https://nwr-scca.org/wp-content/uploads/2025/01/Packwood-Mod-cars.jpg
END:VEVENT
BEGIN:VEVENT
DTSTART;TZID=America/Los_Angeles:20260811T190000
DTEND;TZID=America/Los_Angeles:20260811T210000
DTSTAMP:20260424T052412
CREATED:20250306T030310Z
LAST-MODIFIED:20260113T052528Z
UID:266520-1786474800-1786482000@nwr-scca.org
SUMMARY:NWR SCCA - August Solo Meeting
DESCRIPTION:Meeting location – In Person at The Shop or Zoom Online. Meeting will start at 7pm. Please join early so the meeting can call to order on time. \nPlease join us in person starting at 6pm for social hour followed by a 7pm meeting that will end with The Shop closing at 9pm\, food and no host bar will be open until 8pm. \nThe Shop Auto Club\n2233 6th Ave S\nSeattle\, WA 98134 \nJoin Zoom Meeting\nhttps://us02web.zoom.us/j/84343822485?pwd=eeAgbL2PJprRsmfEDnbVIZ86QTe0SB.1 \nMeeting ID: 843 4382 2485\nPasscode: 202177
URL:https://nwr-scca.org/event/nwr-scca-august-solo-meeting/
LOCATION:The Shop Auto Club\, 2233 6th Ave S\, Seattle\, WA\, 98134\, United States
CATEGORIES:Solo Meeting
ATTACH;FMTTYPE=image/png:https://nwr-scca.org/wp-content/uploads/2025/11/NWR_SCCA_logoZoom-reduced-size-e1762476521146.png
END:VEVENT
BEGIN:VEVENT
DTSTART;TZID=America/Los_Angeles:20260908T190000
DTEND;TZID=America/Los_Angeles:20260908T210000
DTSTAMP:20260424T052412
CREATED:20250306T030414Z
LAST-MODIFIED:20260113T052704Z
UID:266522-1788894000-1788901200@nwr-scca.org
SUMMARY:NWR SCCA - September Solo Meeting
DESCRIPTION:Meeting location – In Person at The Shop or Zoom Online. Meeting will start at 7pm. Please join early so the meeting can call to order on time. \nPlease join us in person starting at 6pm for social hour followed by a 7pm meeting that will end with The Shop closing at 9pm\, food and no host bar will be open until 8pm. \nThe Shop Auto Club\n2233 6th Ave S\nSeattle\, WA 98134 \nJoin Zoom Meeting\nhttps://us02web.zoom.us/j/84343822485?pwd=eeAgbL2PJprRsmfEDnbVIZ86QTe0SB.1 \nMeeting ID: 843 4382 2485\nPasscode: 202177
URL:https://nwr-scca.org/event/nwr-scca-september-solo-meeting/
LOCATION:The Shop Auto Club\, 2233 6th Ave S\, Seattle\, WA\, 98134\, United States
CATEGORIES:Solo Meeting
ATTACH;FMTTYPE=image/png:https://nwr-scca.org/wp-content/uploads/2025/11/NWR_SCCA_logoZoom-reduced-size-e1762476521146.png
END:VEVENT
BEGIN:VEVENT
DTSTART;VALUE=DATE:20260920
DTEND;VALUE=DATE:20260921
DTSTAMP:20260424T052412
CREATED:20250128T203324Z
LAST-MODIFIED:20260406T013227Z
UID:264511-1789862400-1789948799@nwr-scca.org
SUMMARY:NWR SCCA Autocross Event #10 & PM Test n' Tune
DESCRIPTION:Preregistration on scorekeeper will open 30 days before the event.\n\n  \nAM Event with PM Test n’ Tune\n\nParticipants will be in one of two run groups (first run group or second run group) during both the AM and PM session\, with each group getting a minimum of 4 runs. Just like with national level events and other clubs\, when one run group is running\, the other is working the course.\n\n  \nAM Competition Class Schedule7:00 – Site opens7:30-8:30 – Registration\, work assignment and tech inspection open8:30 – Guided course walk (meet at start line)8:45 – Course closed for walking9:00 – Driver’s meeting\n\n  \nPM Test n’ Tune Schedule12:00 – 12:30 – Registration\, work assignments and tech inspection open for NEW entrants1:00 – Driver’s Meeting\n\n  \nPricing\n$55 for first entry (AM or PM)\n$35 for second entry\n$20 weekend membership required for non-members\n$10 on-site registration fee if you do not preregister on scorekeeper\, however prepayment is optional.\n\n  \nWe now also accept cards as payment option on-site!
URL:https://nwr-scca.org/event/nwrsolo-event-10/
LOCATION:Bremerton MotorSports Park\, 7500 SW Old Clifton Rd\, Port Orchard\, WA\, 98367\, United States
CATEGORIES:Autocross,Solo
ATTACH;FMTTYPE=image/jpeg:https://nwr-scca.org/wp-content/uploads/2026/02/BMP-Grid-Skyline-and-Viper.jpg
END:VEVENT
BEGIN:VEVENT
DTSTART;TZID=America/Los_Angeles:20261013T190000
DTEND;TZID=America/Los_Angeles:20261013T210000
DTSTAMP:20260424T052412
CREATED:20250306T030533Z
LAST-MODIFIED:20260113T052824Z
UID:266524-1791918000-1791925200@nwr-scca.org
SUMMARY:NWR SCCA - October Solo Meeting
DESCRIPTION:Meeting location – In Person at The Shop or Zoom Online. Meeting will start at 7pm. Please join early so the meeting can call to order on time. \nPlease join us in person starting at 6pm for social hour followed by a 7pm meeting that will end with The Shop closing at 9pm\, food and no host bar will be open until 8pm. \nThe Shop Auto Club\n2233 6th Ave S\nSeattle\, WA 98134 \nJoin Zoom Meeting\nhttps://us02web.zoom.us/j/84343822485?pwd=eeAgbL2PJprRsmfEDnbVIZ86QTe0SB.1 \nMeeting ID: 843 4382 2485\nPasscode: 202177
URL:https://nwr-scca.org/event/nwr-scca-october-solo-meeting/
LOCATION:The Shop Auto Club\, 2233 6th Ave S\, Seattle\, WA\, 98134\, United States
CATEGORIES:Solo Meeting
ATTACH;FMTTYPE=image/png:https://nwr-scca.org/wp-content/uploads/2025/11/NWR_SCCA_logoZoom-reduced-size-e1762476521146.png
END:VEVENT
BEGIN:VEVENT
DTSTART;TZID=America/Los_Angeles:20261110T190000
DTEND;TZID=America/Los_Angeles:20261110T210000
DTSTAMP:20260424T052412
CREATED:20250306T031214Z
LAST-MODIFIED:20260113T052933Z
UID:266528-1794337200-1794344400@nwr-scca.org
SUMMARY:NWR SCCA - November Solo Meeting
DESCRIPTION:Meeting location – In Person at The Shop or Zoom Online. Meeting will start at 7pm. Please join early so the meeting can call to order on time. \nPlease join us in person starting at 6pm for social hour followed by a 7pm meeting that will end with The Shop closing at 9pm\, food and no host bar will be open until 8pm. \nThe Shop Auto Club\n2233 6th Ave S\nSeattle\, WA 98134 \nJoin Zoom Meeting\nhttps://us02web.zoom.us/j/84343822485?pwd=eeAgbL2PJprRsmfEDnbVIZ86QTe0SB.1 \nMeeting ID: 843 4382 2485\nPasscode: 202177
URL:https://nwr-scca.org/event/nwr-scca-november-solo-meeting/
LOCATION:The Shop Auto Club\, 2233 6th Ave S\, Seattle\, WA\, 98134\, United States
CATEGORIES:Solo Meeting
ATTACH;FMTTYPE=image/png:https://nwr-scca.org/wp-content/uploads/2025/11/NWR_SCCA_logoZoom-reduced-size-e1762476521146.png
END:VEVENT
BEGIN:VEVENT
DTSTART;TZID=America/Los_Angeles:20261208T190000
DTEND;TZID=America/Los_Angeles:20261208T210000
DTSTAMP:20260424T052412
CREATED:20250306T031335Z
LAST-MODIFIED:20260113T053223Z
UID:266530-1796756400-1796763600@nwr-scca.org
SUMMARY:NWR SCCA - December Solo Meeting
DESCRIPTION:Meeting location – In Person at The Shop or Zoom Online. Meeting will start at 7pm. Please join early so the meeting can call to order on time. \nPlease join us in person starting at 6pm for social hour followed by a 7pm meeting that will end with The Shop closing at 9pm\, food and no host bar will be open until 8pm. \nThe Shop Auto Club\n2233 6th Ave S\nSeattle\, WA 98134 \nJoin Zoom Meeting\nhttps://us02web.zoom.us/j/84343822485?pwd=eeAgbL2PJprRsmfEDnbVIZ86QTe0SB.1 \nMeeting ID: 843 4382 2485\nPasscode: 202177
URL:https://nwr-scca.org/event/nwr-scca-december-solo-meeting/
LOCATION:The Shop Auto Club\, 2233 6th Ave S\, Seattle\, WA\, 98134\, United States
CATEGORIES:Solo Meeting
ATTACH;FMTTYPE=image/png:https://nwr-scca.org/wp-content/uploads/2025/11/NWR_SCCA_logoZoom-reduced-size-e1762476521146.png
END:VEVENT
END:VCALENDAR